BEGIN:VCALENDAR
VERSION:2.0
PRODID:-//Mason Dixon BBQ Services - ECPv6.15.20//NONSGML v1.0//EN
CALSCALE:GREGORIAN
METHOD:PUBLISH
X-ORIGINAL-URL:https://mdbbqservices.com
X-WR-CALDESC:Events for Mason Dixon BBQ Services
REFRESH-INTERVAL;VALUE=DURATION:PT1H
X-Robots-Tag:noindex
X-PUBLISHED-TTL:PT1H
BEGIN:VTIMEZONE
TZID:America/New_York
BEGIN:DAYLIGHT
TZOFFSETFROM:-0500
TZOFFSETTO:-0400
TZNAME:EDT
DTSTART:20240310T070000
END:DAYLIGHT
BEGIN:STANDARD
TZOFFSETFROM:-0400
TZOFFSETTO:-0500
TZNAME:EST
DTSTART:20241103T060000
END:STANDARD
BEGIN:DAYLIGHT
TZOFFSETFROM:-0500
TZOFFSETTO:-0400
TZNAME:EDT
DTSTART:20250309T070000
END:DAYLIGHT
BEGIN:STANDARD
TZOFFSETFROM:-0400
TZOFFSETTO:-0500
TZNAME:EST
DTSTART:20251102T060000
END:STANDARD
BEGIN:DAYLIGHT
TZOFFSETFROM:-0500
TZOFFSETTO:-0400
TZNAME:EDT
DTSTART:20260308T070000
END:DAYLIGHT
BEGIN:STANDARD
TZOFFSETFROM:-0400
TZOFFSETTO:-0500
TZNAME:EST
DTSTART:20261101T060000
END:STANDARD
END:VTIMEZONE
BEGIN:VEVENT
DTSTART;TZID=America/New_York:20250208T100000
DTEND;TZID=America/New_York:20250208T130000
DTSTAMP:20260420T181116
CREATED:20241228T114849Z
LAST-MODIFIED:20250109T092731Z
UID:11500-1739008800-1739019600@mdbbqservices.com
SUMMARY:Pizza Class - Greencastle (SOLD OUT)
DESCRIPTION:Are you thinking about trying your hand at making homemade pizza? Have you tried and failed at making pizza? Are you an old pro looking to up your pizza-making game? We have the class for you! \nYou asked for this class and we listened. We’ve gone all in to make it as comprehensive and engaging as possible. \nThis class is taught by one of our very own pitmasters gone pizzaiolo: the one\, the only\, the BarBQutioner! You may have seen him at one of the boot camps we offer\, the open houses we do twice a year\, and the overwhelmingly successful pizza making and sampling demo during the Holiday Wing Thing. He is a fantastic teacher and cook and will demonstrate the basic fundamentals on how to make a great pizza. \nTopics covered: \n\nTools: What are the essentials required to make amazing pizza\nOvens and temps: Home ovens\, Green Mountain Grills pizza attachment\, Yoder pizza attachment\, and Big Green Egg\nDough: Direct and preferment\, types of flour\, yeast\, sugar\, and honey\nToppings: Your pizza is your canvas… go artistic\, basic\, or fully loaded.\n\nDemonstrations/hands-on cooking will be on the Yoder pellet grill\, Green Mountain Grill pellet grill\, and Big Green Egg. \nPizza Class Tickets\nContact Information\nName(Required)  First   Last  Email(Required) Phone(Required)Address(Required)  Street Address  City  State / Province / Region  ZIP / Postal Code  AfghanistanAlbaniaAlgeriaAmerican SamoaAndorraAngolaAnguillaAntarcticaAntigua and BarbudaArgentinaArmeniaArubaAustraliaAustriaAzerbaijanBahamasBahrainBangladeshBarbadosBelarusBelgiumBelizeBeninBermudaBhutanBoliviaBonaire\, Sint Eustatius and SabaBosnia and HerzegovinaBotswanaBouvet IslandBrazilBritish Indian Ocean TerritoryBrunei DarussalamBulgariaBurkina FasoBurundiCabo VerdeCambodiaCameroonCanadaCayman IslandsCentral African RepublicChadChileChinaChristmas IslandCocos IslandsColombiaComorosCongoCongo\, Democratic Republic of theCook IslandsCosta RicaCroatiaCubaCuraçaoCyprusCzechiaCôte d’IvoireDenmarkDjiboutiDominicaDominican RepublicEcuadorEgyptEl SalvadorEquatorial GuineaEritreaEstoniaEswatiniEthiopiaFalkland IslandsFaroe IslandsFijiFinlandFranceFrench GuianaFrench PolynesiaFrench Southern TerritoriesGabonGambiaGeorgiaGermanyGhanaGibraltarGreeceGreenlandGrenadaGuadeloupeGuamGuatemalaGuernseyGuineaGuinea-BissauGuyanaHaitiHeard Island and McDonald IslandsHoly SeeHondurasHong KongHungaryIcelandIndiaIndonesiaIranIraqIrelandIsle of ManIsraelItalyJamaicaJapanJerseyJordanKazakhstanKenyaKiribatiKorea\, Democratic People’s Republic ofKorea\, Republic ofKuwaitKyrgyzstanLao People’s Democratic RepublicLatviaLebanonLesothoLiberiaLibyaLiechtensteinLithuaniaLuxembourgMacaoMadagascarMalawiMalaysiaMaldivesMaliMaltaMarshall IslandsMartiniqueMauritaniaMauritiusMayotteMexicoMicronesiaMoldovaMonacoMongoliaMontenegroMontserratMoroccoMozambiqueMyanmarNamibiaNauruNepalNetherlandsNew CaledoniaNew ZealandNicaraguaNigerNigeriaNiueNorfolk IslandNorth MacedoniaNorthern Mariana IslandsNorwayOmanPakistanPalauPalestine\, State ofPanamaPapua New GuineaParaguayPeruPhilippinesPitcairnPolandPortugalPuerto RicoQatarRomaniaRussian FederationRwandaRéunionSaint BarthélemySaint Helena\, Ascension and Tristan da CunhaSaint Kitts and NevisSaint LuciaSaint MartinSaint Pierre and MiquelonSaint Vincent and the GrenadinesSamoaSan MarinoSao Tome and PrincipeSaudi ArabiaSenegalSerbiaSeychellesSierra LeoneSingaporeSint MaartenSlovakiaSloveniaSolomon IslandsSomaliaSouth AfricaSouth Georgia and the South Sandwich IslandsSouth SudanSpainSri LankaSudanSurinameSvalbard and Jan MayenSwedenSwitzerlandSyria Arab RepublicTaiwanTajikistanTanzania\, the United Republic ofThailandTimor-LesteTogoTokelauTongaTrinidad and TobagoTunisiaTurkmenistanTurks and Caicos IslandsTuvaluTürkiyeUS Minor Outlying IslandsUgandaUkraineUnited Arab EmiratesUnited KingdomUnited StatesUruguayUzbekistanVanuatuVenezuelaViet NamVirgin Islands\, BritishVirgin Islands\, U.S.Wallis and FutunaWestern SaharaYemenZambiaZimbabweÅland Islands Country  \nTickets\nWhich Class?(Required)January 11\, 2024 – Frederick Class (17 tickets available)February 8\, 2024 – Greencastle Class (19 tickets available)March 22\, 2024 – Greencastle Class (20 tickets available)How Many Tickets?(Required)Total \nPayment and Signature\nCredit Card(Required)Card DetailsCardholder NameSignature of Chief Cook(Required)Release of Liability: In consideration of your accepting this entry\, I the undersigned\, intending to be legally bound\, hereby\, for myself\, my heirs\, executors and administrators waive andrelease any and all rights and claims for damages I may have against Mason Dixon BBQ Services and The BarBQutioner and their representatives\, successors\, and assigns for any and all injuries suffered by me in/at this event. Further\, I hereby grant full permission to Mason Dixon BBQ Services or authorized agents to use any photographs\, videos\, recordings or any other record of this event for any legitimate purpose.
URL:https://mdbbqservices.com/event/pizza-class-greencastle-2025-02-08/
LOCATION:Mason Dixon BBQ Services – Greencastle\, 1546 Buchanan Trail E\, Shady Grove\, Greencastle\, PA\, 17225\, United States
ATTACH;FMTTYPE=image/jpeg:https://mdbbqservices.com/wp-content/uploads/2023/02/Mason_Dixon_Pizza-Class.jpg
ORGANIZER;CN="Mason Dixon BBQ Services - Greencastle":MAILTO:info@mdbbqservices.com
END:VEVENT
END:VCALENDAR